BEGIN:VCALENDAR
VERSION:2.0
PRODID:-//wp-events-plugin.com//7.2.3.1//EN
TZID:Europe/Paris
X-WR-TIMEZONE:Europe/Paris
BEGIN:VEVENT
UID:184@langophonies.org
DTSTART;TZID=Europe/Paris:20220326T103000
DTEND;TZID=Europe/Paris:20220326T120000
DTSTAMP:20220302T174121Z
URL:https://langophonies.org/events/anglais-ateliers-de-conversation/
SUMMARY:Anglais - Ateliers de conversation
DESCRIPTION:Des ateliers de conversation (et non de cours) pour adultes pou
 r découvrir\, pratiquer\, se mettre en confiance dans la pratique orale e
 n anglais. Ouvert à tous les niveaux !\n\nInscription obligatoire via lan
 gophonies@gmail.com ou 07 84 05 11 47\n\nLes ateliers sont animés par des
  animateurs ou animatrices formées et  bénévoles. La participation à l
 'atelier est à prix libre.
ATTACH;FMTTYPE=image/jpeg:https://langophonies.org/wp-content/uploads/2022
 /03/42909_image_244536669_2961680644160252_5499321131444403953_n.jpg
CATEGORIES:Ateliers Adultes,particuliers
LOCATION:Langophonies Rennes\, 37\, Cours de Bilbao\, Rennes\, 35200\, Fran
 ce
GEO:48.08609;-1.66897
X-APPLE-STRUCTURED-LOCATION;VALUE=URI;X-ADDRESS=37\, Cours de Bilbao\, Renn
 es\, 35200\, France;X-APPLE-RADIUS=100;X-TITLE=Langophonies Rennes:geo:48.
 08609,-1.66897
END:VEVENT
BEGIN:VTIMEZONE
TZID:Europe/Paris
X-LIC-LOCATION:Europe/Paris
BEGIN:STANDARD
DTSTART:20211031T020000
TZOFFSETFROM:+0200
TZOFFSETTO:+0100
TZNAME:CET
END:STANDARD
END:VTIMEZONE
END:VCALENDAR